BEGIN:VCALENDAR
VERSION:2.0
PRODID:-//Neoayahuasca - ECPv6.15.20//NONSGML v1.0//EN
CALSCALE:GREGORIAN
METHOD:PUBLISH
X-WR-CALNAME:Neoayahuasca
X-ORIGINAL-URL:https://neoayahuasca.com
X-WR-CALDESC:Eventos para Neoayahuasca
REFRESH-INTERVAL;VALUE=DURATION:PT1H
X-Robots-Tag:noindex
X-PUBLISHED-TTL:PT1H
BEGIN:VTIMEZONE
TZID:UTC
BEGIN:STANDARD
TZOFFSETFROM:+0000
TZOFFSETTO:+0000
TZNAME:UTC
DTSTART:20240101T000000
END:STANDARD
END:VTIMEZONE
BEGIN:VEVENT
DTSTART;TZID=UTC:20260411T110000
DTEND;TZID=UTC:20260413T210000
DTSTAMP:20260421T112158
CREATED:20260311T101619Z
LAST-MODIFIED:20260311T101816Z
UID:3902-1775905200-1776114000@neoayahuasca.com
SUMMARY:Retiro de un día 11 de abril en Madrid
DESCRIPTION:El 11 de abril  nos reunimos en Madrid centro para vivir una ceremonia de Ayahuasca única: un día para reconectar contigo\, abrir el corazón y dejar que la claridad vuelva a ocupar su lugar. \nNo es una experiencia más. Es un antes y un después. Guiada con respeto\, música y acompañamiento consciente\, esta jornada está creada para ayudarte a soltar lo que ya no necesitas y recordar lo esencial: la vida\, el amor y tu poder interior. \nInversión en ti: 150 € \n¿Sientes el llamado? \nEscríbenos por privado y te daremos todos los detalles. \n🌿 Plazas limitadas — solicita información y reserva tu lugar.
URL:https://neoayahuasca.com/calenadrio/retiro-de-un-dia-11-de-abril-en-madrid/
ATTACH;FMTTYPE=image/png:https://neoayahuasca.com/wp-content/uploads/2025/11/13-de-diciembre.png
END:VEVENT
BEGIN:VEVENT
DTSTART;VALUE=DATE:20260220
DTEND;VALUE=DATE:20260223
DTSTAMP:20260421T112158
CREATED:20260125T183305Z
LAST-MODIFIED:20260125T183433Z
UID:3480-1771545600-1771804799@neoayahuasca.com
SUMMARY:Retiro de Ayahuasca 20 al 22 de febrero en la Sierra de Madrid
DESCRIPTION:Regresa a tu esencia: Un viaje al corazón de la Sierra  \n📅 20 al 22 de febrero \nUn encuentro íntimo con la naturaleza diseñado para silenciar el ruido externo y volver a ti. Durante un fin de semana en la Sierra de Madrid\, creamos un espacio sagrado\, seguro y transformador donde la medicina de la Ayahuasca actúa como puente hacia tu Ser\, el alma y el amor incondicional. \nLa experiencia incluye: \n\n\nDos ceremonias de Ayahuasca: Un viaje profundo hacia el autodescubrimiento. \n\n\nRondas de Rapé: Para el enfoque y el enraizamiento. \n\n\nCírculos de Integración: Espacios de palabra y consciencia para asentar lo vivido. \n\n\nSostén Completo: Alojamiento y alimentación consciente en un entorno natural que abraza tu proceso. \n\n\nInversión en ti: \nUna noche: 230 € \nFin de semana completo: 390 € \n(Plazas limitadas para preservar la intimidad del grupo) \n¿Sientes el llamado? \nEscríbenos por privado y te daremos todos los detalles.
URL:https://neoayahuasca.com/calenadrio/retiro-de-ayahuasca-febrero-en-la-sierra-de-madrid/
ATTACH;FMTTYPE=image/png:https://neoayahuasca.com/wp-content/uploads/2026/01/febrero.png
END:VEVENT
BEGIN:VEVENT
DTSTART;TZID=UTC:20260123T180000
DTEND;TZID=UTC:20260125T150000
DTSTAMP:20260421T112158
CREATED:20250220T180026Z
LAST-MODIFIED:20260125T181754Z
UID:2604-1769191200-1769353200@neoayahuasca.com
SUMMARY:Retiro fin de semana Sierra de Madrid
DESCRIPTION:El año no se cambia con propósitos\, se cambia con experiencias que te mueven por dentro. \nDel 23 al 25 de enero nos juntamos en la Sierra de Madrid para vivir un retiro de fin de semana con ceremonia de ayahuasca\, en tribu\, en naturaleza y con personas que sienten lo mismo: que 2026 no puede empezar en automático. \nSi sientes el llamado\, escríbenos para más info.
URL:https://neoayahuasca.com/calenadrio/retiro-fin-de-semana-sierra-de-madrid-2/
ATTACH;FMTTYPE=image/png:https://neoayahuasca.com/wp-content/uploads/2025/11/retiro-home.png
END:VEVENT
BEGIN:VEVENT
DTSTART;VALUE=DATE:20251213
DTEND;VALUE=DATE:20251216
DTSTAMP:20260421T112158
CREATED:20251113T074742Z
LAST-MODIFIED:20251114T121824Z
UID:2068-1765584000-1765843199@neoayahuasca.com
SUMMARY:Retiro de un día en Madrid
DESCRIPTION:El 13 de diciembre nos reunimos en Madrid centro para vivir una ceremonia de Ayahuasca única: un día para reconectar contigo\, abrir el corazón y dejar que la claridad vuelva a ocupar su lugar. \nNo es una experiencia más. Es un antes y un después. Guiada con respeto\, música y acompañamiento consciente\, esta jornada está creada para ayudarte a soltar lo que ya no necesitas y recordar lo esencial: la vida\, el amor y tu poder interior. \n🌿 Plazas limitadas — solicita información y reserva tu lugar.
URL:https://neoayahuasca.com/calenadrio/retiro-de-un-dia-en-madrid/
ATTACH;FMTTYPE=image/png:https://neoayahuasca.com/wp-content/uploads/2025/11/13-de-diciembre.png
END:VEVENT
BEGIN:VEVENT
DTSTART;TZID=UTC:20251114T180000
DTEND;TZID=UTC:20251116T130000
DTSTAMP:20260421T112158
CREATED:20251022T154638Z
LAST-MODIFIED:20251022T154638Z
UID:1288-1763143200-1763298000@neoayahuasca.com
SUMMARY:Retiro fin de semana Sierra de Madrid
DESCRIPTION:Del 14 al 16 de noviembre\, nos reunimos en la Sierra de Madrid 🌿 para vivir un retiro con Ayahuasca diferente: luminoso\, amoroso 💛 y lleno de verdad\, guiado con respeto\, música y acompañamiento consciente. \nNo es magia. Es presencia. \nNo es escape. Es regreso. \nSi resuena contigo\, escríbenos
URL:https://neoayahuasca.com/calenadrio/retiro-fin-de-semana-sierra-de-madrid/
ATTACH;FMTTYPE=image/png:https://neoayahuasca.com/wp-content/uploads/2025/10/retiro-sierra-de-madrid.png
END:VEVENT
BEGIN:VEVENT
DTSTART;TZID=UTC:20251004T110000
DTEND;TZID=UTC:20251004T210000
DTSTAMP:20260421T112158
CREATED:20250904T184702Z
LAST-MODIFIED:20250904T184702Z
UID:840-1759575600-1759611600@neoayahuasca.com
SUMMARY:Ceremonia de Ayahuasca de 1 día en Madrid
DESCRIPTION:En medio del ritmo de la ciudad\, existe un espacio sagrado donde el tiempo se detiene y el corazón recuerda su verdad. Este retiro de un día en el centro de Madrid es una invitación a sumergirte en la sabiduria ancestral de la Ayahuasca sin necesidad de alejarte de la urbe\, creando un puente entre lo cotidiano y lo espiritual. \nGuiados por facilitadores con experiencia\, vivirás una ceremonia íntima en un entorno cuidado y seguro\, diseñado para sostener procesos de alineación\, apertura y conexión profunda con tu ser. \nQué experimentarás en este retiro \n\nCeremonia de Ayahuasca guiada con respeto\, amor y consciencia.\nAcompañamiento cercano y apoyo durante todo el proceso.\nUn espacio íntimo de integración para compartir y comprender la experiencia.\nLa oportunidad de conectar con tu esencia en el centro mismo de la ciudad.\n\nEste formato está pensado para quienes desean vivir la experiencia de la Ayahuasca en una sola jornada\, sin desplazamientos largos\, pero con la misma profundidad\, cuidado y entrega que en un retiro de varios días. \n📩 Para más información y reservas\, contáctanos por Whatsapp
URL:https://neoayahuasca.com/calenadrio/ceremonia-de-ayahuasca-de-1-dia-en-madrid/
LOCATION:Centro de Madrid\, Calle Fernando Poo\,31\, Arganzuela\, Madrid\, 28045\, Spain
ATTACH;FMTTYPE=image/png:https://neoayahuasca.com/wp-content/uploads/2025/09/retiro-1-dia-madrid.png
END:VEVENT
BEGIN:VEVENT
DTSTART;TZID=UTC:20250919T163000
DTEND;TZID=UTC:20250921T163000
DTSTAMP:20260421T112158
CREATED:20250814T114238Z
LAST-MODIFIED:20250904T171922Z
UID:53-1758299400-1758472200@neoayahuasca.com
SUMMARY:Ceremonia de Ayahuasca en la Sierra de Madrid
DESCRIPTION:En el silencio de la montaña\, donde la tierra respira y el cielo se abre\, te invitamos a un encuentro profundo con lo Sagrado. Este retiro es una oportunidad para abrir el corazón\, expandir la conciencia y conectar con la medicina ancestral de la Ayahuasca en un entorno seguro\, natural y cuidado. \nDurante las ceremonias\, vivirás un proceso de sanación interior\, autoconocimiento y transformación personal. La energía de la Sierra de Madrid nos acompañará en este viaje\, sosteniendo la experiencia en un espacio privado\, íntimo y respetuoso. \n✨ Fechas y modalidades \n\n1 noche → 190 €\n2 noches → 350 €\n\nEste retiro está diseñado tanto para quienes se inician en el camino de la Ayahuasca como para quienes ya tienen experiencia y desean profundizar en su proceso. \n🌿 Qué encontrarás en este retiro: \n\nCeremonias de Ayahuasca guiadas con amor y respeto.\nAcompañamiento seguro y consciente durante todo el proceso\nIntegración en círculo\, compartiendo desde el corazón\nUn entorno natural que potencia la conexión interior.\n\n📩 Para más información y reservas\, contáctanos por Whatsapp
URL:https://neoayahuasca.com/calenadrio/ceremonia-de-ayahuasca-sierra-madrid/
LOCATION:Sierra de Madrid\, Espacio privado\, Sierra de Madrid\, 28214\, Spain
ATTACH;FMTTYPE=image/jpeg:https://neoayahuasca.com/wp-content/uploads/2025/08/WhatsApp-Image-2025-08-14-at-12.39.21.jpeg
END:VEVENT
END:VCALENDAR