BEGIN:VCALENDAR
VERSION:2.0
PRODID:-//Neoayahuasca - ECPv6.15.20//NONSGML v1.0//EN
CALSCALE:GREGORIAN
METHOD:PUBLISH
X-ORIGINAL-URL:https://neoayahuasca.com
X-WR-CALDESC:Eventos para Neoayahuasca
REFRESH-INTERVAL;VALUE=DURATION:PT1H
X-Robots-Tag:noindex
X-PUBLISHED-TTL:PT1H
BEGIN:VTIMEZONE
TZID:UTC
BEGIN:STANDARD
TZOFFSETFROM:+0000
TZOFFSETTO:+0000
TZNAME:UTC
DTSTART:20250101T000000
END:STANDARD
END:VTIMEZONE
BEGIN:VEVENT
DTSTART;TZID=UTC:20260411T110000
DTEND;TZID=UTC:20260413T210000
DTSTAMP:20260421T211941
CREATED:20260311T101619Z
LAST-MODIFIED:20260311T101816Z
UID:3902-1775905200-1776114000@neoayahuasca.com
SUMMARY:Retiro de un día 11 de abril en Madrid
DESCRIPTION:El 11 de abril  nos reunimos en Madrid centro para vivir una ceremonia de Ayahuasca única: un día para reconectar contigo\, abrir el corazón y dejar que la claridad vuelva a ocupar su lugar. \nNo es una experiencia más. Es un antes y un después. Guiada con respeto\, música y acompañamiento consciente\, esta jornada está creada para ayudarte a soltar lo que ya no necesitas y recordar lo esencial: la vida\, el amor y tu poder interior. \nInversión en ti: 150 € \n¿Sientes el llamado? \nEscríbenos por privado y te daremos todos los detalles. \n🌿 Plazas limitadas — solicita información y reserva tu lugar.
URL:https://neoayahuasca.com/calenadrio/retiro-de-un-dia-11-de-abril-en-madrid/
ATTACH;FMTTYPE=image/png:https://neoayahuasca.com/wp-content/uploads/2025/11/13-de-diciembre.png
END:VEVENT
BEGIN:VEVENT
DTSTART;VALUE=DATE:20260424
DTEND;VALUE=DATE:20260427
DTSTAMP:20260421T211941
CREATED:20260311T101255Z
LAST-MODIFIED:20260311T101336Z
UID:3898-1776988800-1777247999@neoayahuasca.com
SUMMARY:Retiro de Ayahuasca 24 al 26 de abril Sierra de Madrid
DESCRIPTION:Regresa a tu esencia: Un viaje al corazón de la Sierra  \n📅 24 y 26 de abril \nUn encuentro íntimo con la naturaleza diseñado para silenciar el ruido externo y volver a ti. Durante un fin de semana en la Sierra de Madrid\, creamos un espacio sagrado\, seguro y transformador donde la medicina de la Ayahuasca actúa como puente hacia tu Ser\, el alma y el amor incondicional. \nLa experiencia incluye: \n\nDos ceremonias de Ayahuasca: Un viaje profundo hacia el autodescubrimiento.\nRondas de Rapé: Para el enfoque y el enraizamiento.\nCírculos de Integración: Espacios de palabra y consciencia para asentar lo vivido.\nSostén Completo: Alojamiento y alimentación consciente en un entorno natural que abraza tu proceso.\n\nInversión en ti: \nUna noche: 230 € \nFin de semana completo: 390 € \n(Plazas limitadas para preservar la intimidad del grupo) \n¿Sientes el llamado? \nEscríbenos por privado y te daremos todos los detalles.
URL:https://neoayahuasca.com/calenadrio/retiro-de-ayahuasca-24-al-26-de-abril-sierra-de-madrid/
ATTACH;FMTTYPE=image/png:https://neoayahuasca.com/wp-content/uploads/2026/03/neoayahuasca_homenew.png
END:VEVENT
BEGIN:VEVENT
DTSTART;VALUE=DATE:20260516
DTEND;VALUE=DATE:20260518
DTSTAMP:20260421T211941
CREATED:20260420T144957Z
LAST-MODIFIED:20260420T144957Z
UID:4248-1778889600-1779062399@neoayahuasca.com
SUMMARY:Retiro de Ayahuasca 16 al 17 de mayo Sierra de Madrid
DESCRIPTION:Regresa a tu esencia: Un viaje al corazón de la Sierra  \n📅 16 y 17 de mayo \nUn encuentro íntimo con la naturaleza diseñado para silenciar el ruido externo y volver a ti. Durante un fin de semana en la Sierra de Madrid\, creamos un espacio sagrado\, seguro y transformador donde la ayahuasca actúa como puente hacia tu Ser\, el alma y el amor incondicional. \nLa experiencia incluye: \n\nUna ceremoniaa de Ayahuasca: Un viaje profundo hacia el autodescubrimiento.\nRondas de Rapé: Para el enfoque y el enraizamiento.\nCírculos de Integración: Espacios de palabra y consciencia para asentar lo vivido.\nSostén Completo: Alojamiento y alimentación consciente en un entorno natural que abraza tu proceso.\n\nInversión en ti: \nUna noche: 230 € \n(Plazas limitadas para preservar la intimidad del grupo) \n¿Sientes el llamado? \nEscríbenos por privado y te daremos todos los detalles.
URL:https://neoayahuasca.com/calenadrio/retiro-de-ayahuasca-16-al-17-de-mayo-sierra-de-madrid/
ATTACH;FMTTYPE=image/png:https://neoayahuasca.com/wp-content/uploads/2026/03/109-scaled.png
END:VEVENT
BEGIN:VEVENT
DTSTART;VALUE=DATE:20260605
DTEND;VALUE=DATE:20260608
DTSTAMP:20260421T211941
CREATED:20260420T145340Z
LAST-MODIFIED:20260420T145340Z
UID:4252-1780617600-1780876799@neoayahuasca.com
SUMMARY:Retiro de Ayahuasca 5 al 7 de junio Sierra de Madrid
DESCRIPTION:Regresa a tu esencia: Un viaje al corazón de la Sierra  \n📅  5 al 7 de junio  \nUn encuentro íntimo con la naturaleza diseñado para silenciar el ruido externo y volver a ti. Durante un fin de semana en la Sierra de Madrid\, creamos un espacio sagrado\, seguro y transformador donde la medicina de la Ayahuasca actúa como puente hacia tu Ser\, el alma y el amor incondicional. \nLa experiencia incluye: \n\nDos ceremonias de Ayahuasca: Un viaje profundo hacia el autodescubrimiento.\nRondas de Rapé: Para el enfoque y el enraizamiento.\nCírculos de Integración: Espacios de palabra y consciencia para asentar lo vivido.\nSostén Completo: Alojamiento y alimentación consciente en un entorno natural que abraza tu proceso.\n\nInversión en ti: \nUna noche: 230 € \nFin de semana completo: 390 € \n(Plazas limitadas para preservar la intimidad del grupo) \n¿Sientes el llamado? \nEscríbenos por privado y te daremos todos los detalles.
URL:https://neoayahuasca.com/calenadrio/retiro-de-ayahuasca-5-al-7-de-junio-sierra-de-madrid/
ATTACH;FMTTYPE=image/png:https://neoayahuasca.com/wp-content/uploads/2026/03/122-scaled.png
END:VEVENT
BEGIN:VEVENT
DTSTART;VALUE=DATE:20260703
DTEND;VALUE=DATE:20260706
DTSTAMP:20260421T211941
CREATED:20260420T145603Z
LAST-MODIFIED:20260420T145623Z
UID:4254-1783036800-1783295999@neoayahuasca.com
SUMMARY:Retiro de Ayahuasca 3 al 5 de julio Sierra de Madrid
DESCRIPTION:Regresa a tu esencia: Un viaje al corazón de la Sierra  \n📅  3 al 5 de julio \nUn encuentro íntimo con la naturaleza diseñado para silenciar el ruido externo y volver a ti. Durante un fin de semana en la Sierra de Madrid\, creamos un espacio sagrado\, seguro y transformador donde la medicina de la Ayahuasca actúa como puente hacia tu Ser\, el alma y el amor incondicional. \nLa experiencia incluye: \n\nDos ceremonias de Ayahuasca: Un viaje profundo hacia el autodescubrimiento.\nRondas de Rapé: Para el enfoque y el enraizamiento.\nCírculos de Integración: Espacios de palabra y consciencia para asentar lo vivido.\nSostén Completo: Alojamiento y alimentación consciente en un entorno natural que abraza tu proceso.\n\nInversión en ti: \nUna noche: 230 € \nFin de semana completo: 390 € \n(Plazas limitadas para preservar la intimidad del grupo) \n¿Sientes el llamado? \nEscríbenos por privado y te daremos todos los detalles.
URL:https://neoayahuasca.com/calenadrio/retiro-de-ayahuasca-3-al-5-de-julio-sierra-de-madrid/
ATTACH;FMTTYPE=image/jpeg:https://neoayahuasca.com/wp-content/uploads/2026/03/13-scaled.jpg
END:VEVENT
END:VCALENDAR